BEGIN:VCALENDAR
VERSION:2.0
PRODID:-//CEOLEVEL - ECPv6.15.18//NONSGML v1.0//EN
CALSCALE:GREGORIAN
METHOD:PUBLISH
X-ORIGINAL-URL:https://www.ceolevel.com
X-WR-CALDESC:Eventos para CEOLEVEL
REFRESH-INTERVAL;VALUE=DURATION:PT1H
X-Robots-Tag:noindex
X-PUBLISHED-TTL:PT1H
BEGIN:VTIMEZONE
TZID:UTC
BEGIN:STANDARD
TZOFFSETFROM:+0000
TZOFFSETTO:+0000
TZNAME:UTC
DTSTART:20220101T000000
END:STANDARD
END:VTIMEZONE
BEGIN:VEVENT
DTSTART;TZID=UTC:20241115T150000
DTEND;TZID=UTC:20241116T200000
DTSTAMP:20260420T172358
CREATED:20240424T111817Z
LAST-MODIFIED:20240424T111817Z
UID:9948-1731682800-1731787200@www.ceolevel.com
SUMMARY:Curso Presencial PMI ACP + ScrumMaster Madrid
DESCRIPTION:
URL:https://www.ceolevel.com/event/curso-presencial-pmi-acp-scrummaster-madrid-43/
LOCATION:Ibercenter Business Center\, Plaza de Carlos Trias Bertran 4\, Madrid\, Madrid\, España
ORGANIZER;CN="CEOLEVEL":MAILTO:info@ceolevel.com
END:VEVENT
BEGIN:VEVENT
DTSTART;TZID=UTC:20241108T090000
DTEND;TZID=UTC:20241109T200000
DTSTAMP:20260420T172358
CREATED:20240424T111914Z
LAST-MODIFIED:20240424T111914Z
UID:9950-1731056400-1731182400@www.ceolevel.com
SUMMARY:Curso Intensivo PMP/CAPM Madrid
DESCRIPTION:
URL:https://www.ceolevel.com/event/curso-intensivo-pmp-capm-madrid-57/
LOCATION:Ibercenter Business Center\, Plaza de Carlos Trias Bertran 4\, Madrid\, Madrid\, España
ORGANIZER;CN="CEOLEVEL":MAILTO:info@ceolevel.com
END:VEVENT
BEGIN:VEVENT
DTSTART;TZID=UTC:20241018T150000
DTEND;TZID=UTC:20241019T200000
DTSTAMP:20260420T172358
CREATED:20240424T111608Z
LAST-MODIFIED:20240424T111608Z
UID:9944-1729263600-1729368000@www.ceolevel.com
SUMMARY:Curso Presencial PMI ACP + Scrum Master Barcelona
DESCRIPTION:
URL:https://www.ceolevel.com/event/curso-presencial-pmi-acp-scrum-master-barcelona-4/
LOCATION:AIN Business Center\, Avenida Diagonal 601 Planta 8\, Barcelona\, Barcelona\, 08028\, España
ORGANIZER;CN="CEOLEVEL":MAILTO:info@ceolevel.com
END:VEVENT
BEGIN:VEVENT
DTSTART;TZID=UTC:20241018T090000
DTEND;TZID=UTC:20241019T200000
DTSTAMP:20260420T172358
CREATED:20240424T111713Z
LAST-MODIFIED:20240424T111713Z
UID:9946-1729242000-1729368000@www.ceolevel.com
SUMMARY:Curso Intensivo PMP/CAPM Madrid
DESCRIPTION:
URL:https://www.ceolevel.com/event/curso-intensivo-pmp-capm-madrid-56/
LOCATION:Ibercenter Business Center\, Plaza de Carlos Trias Bertran 4\, Madrid\, Madrid\, España
ORGANIZER;CN="CEOLEVEL":MAILTO:info@ceolevel.com
END:VEVENT
BEGIN:VEVENT
DTSTART;TZID=UTC:20240927T090000
DTEND;TZID=UTC:20240928T200000
DTSTAMP:20260420T172358
CREATED:20240424T071133Z
LAST-MODIFIED:20240424T071133Z
UID:9938-1727427600-1727553600@www.ceolevel.com
SUMMARY:Curso Intensivo PMP/CAPM Madrid
DESCRIPTION:
URL:https://www.ceolevel.com/event/curso-intensivo-pmp-capm-madrid-55/
LOCATION:Ibercenter Business Center\, Plaza de Carlos Trias Bertran 4\, Madrid\, Madrid\, España
ORGANIZER;CN="CEOLEVEL":MAILTO:info@ceolevel.com
END:VEVENT
BEGIN:VEVENT
DTSTART;TZID=UTC:20240913T150000
DTEND;TZID=UTC:20240914T200000
DTSTAMP:20260420T172358
CREATED:20240424T111506Z
LAST-MODIFIED:20240424T111506Z
UID:9940-1726239600-1726344000@www.ceolevel.com
SUMMARY:Curso Presencial PMI ACP + ScrumMaster Madrid
DESCRIPTION:
URL:https://www.ceolevel.com/event/curso-presencial-pmi-acp-scrummaster-madrid-42/
LOCATION:Ibercenter Business Center\, Plaza de Carlos Trias Bertran 4\, Madrid\, Madrid\, España
ORGANIZER;CN="CEOLEVEL":MAILTO:info@ceolevel.com
END:VEVENT
BEGIN:VEVENT
DTSTART;TZID=UTC:20240913T090000
DTEND;TZID=UTC:20240914T200000
DTSTAMP:20260420T172358
CREATED:20240424T070320Z
LAST-MODIFIED:20240424T070320Z
UID:9936-1726218000-1726344000@www.ceolevel.com
SUMMARY:Curso Intensivo PMP/CAPM Barcelona
DESCRIPTION:
URL:https://www.ceolevel.com/event/curso-intensivo-pmp-capm-barcelona-37/
LOCATION:AIN Business Center\, Avenida Diagonal 601 Planta 8\, Barcelona\, Barcelona\, 08028\, España
ORGANIZER;CN="CEOLEVEL":MAILTO:info@ceolevel.com
END:VEVENT
BEGIN:VEVENT
DTSTART;TZID=UTC:20240726T150000
DTEND;TZID=UTC:20240727T200000
DTSTAMP:20260420T172358
CREATED:20240424T065649Z
LAST-MODIFIED:20240424T111207Z
UID:9934-1722006000-1722110400@www.ceolevel.com
SUMMARY:Curso Presencial PMI ACP + ScrumMaster Barcelona
DESCRIPTION:
URL:https://www.ceolevel.com/event/curso-presencial-pmi-acp-scrummaster-madrid-41/
LOCATION:AIN Business Center\, Avenida Diagonal 601 Planta 8\, Barcelona\, Barcelona\, 08028\, España
ORGANIZER;CN="CEOLEVEL":MAILTO:info@ceolevel.com
END:VEVENT
BEGIN:VEVENT
DTSTART;TZID=UTC:20240719T090000
DTEND;TZID=UTC:20240720T200000
DTSTAMP:20260420T172358
CREATED:20231027T082906Z
LAST-MODIFIED:20231027T082906Z
UID:8968-1721379600-1721505600@www.ceolevel.com
SUMMARY:Curso Intensivo PMP/CAPM Madrid
DESCRIPTION:
URL:https://www.ceolevel.com/event/curso-intensivo-pmp-capm-madrid-54/
LOCATION:Ibercenter Business Center\, Plaza de Carlos Trias Bertran 4\, Madrid\, Madrid\, España
ORGANIZER;CN="CEOLEVEL":MAILTO:info@ceolevel.com
END:VEVENT
BEGIN:VEVENT
DTSTART;TZID=UTC:20240628T090000
DTEND;TZID=UTC:20240629T200000
DTSTAMP:20260420T172358
CREATED:20231027T082718Z
LAST-MODIFIED:20231027T082718Z
UID:8964-1719565200-1719691200@www.ceolevel.com
SUMMARY:Curso Intensivo PMP/CAPM Barcelona
DESCRIPTION:
URL:https://www.ceolevel.com/event/curso-intensivo-pmp-capm-barcelona-36/
LOCATION:AIN Business Center\, Avenida Diagonal 601 Planta 8\, Barcelona\, Barcelona\, 08028\, España
ORGANIZER;CN="CEOLEVEL":MAILTO:info@ceolevel.com
END:VEVENT
BEGIN:VEVENT
DTSTART;TZID=UTC:20240614T090000
DTEND;TZID=UTC:20240615T200000
DTSTAMP:20260420T172358
CREATED:20231027T082628Z
LAST-MODIFIED:20240312T074753Z
UID:8962-1718355600-1718481600@www.ceolevel.com
SUMMARY:Curso Intensivo PMP/CAPM Madrid
DESCRIPTION:
URL:https://www.ceolevel.com/event/curso-intensivo-pmp-capm-madrid-53/
LOCATION:Ibercenter Business Center\, Plaza de Carlos Trias Bertran 4\, Madrid\, Madrid\, España
ORGANIZER;CN="CEOLEVEL":MAILTO:info@ceolevel.com
END:VEVENT
BEGIN:VEVENT
DTSTART;TZID=UTC:20240517T090000
DTEND;TZID=UTC:20240518T200000
DTSTAMP:20260420T172358
CREATED:20231027T082418Z
LAST-MODIFIED:20231027T082418Z
UID:8958-1715936400-1716062400@www.ceolevel.com
SUMMARY:Curso Intensivo PMP/CAPM Madrid
DESCRIPTION:
URL:https://www.ceolevel.com/event/curso-intensivo-pmp-capm-madrid-52/
LOCATION:Ibercenter Business Center\, Plaza de Carlos Trias Bertran 4\, Madrid\, Madrid\, España
ORGANIZER;CN="CEOLEVEL":MAILTO:info@ceolevel.com
END:VEVENT
BEGIN:VEVENT
DTSTART;TZID=UTC:20240510T150000
DTEND;TZID=UTC:20240511T200000
DTSTAMP:20260420T172358
CREATED:20231027T082324Z
LAST-MODIFIED:20231027T082324Z
UID:8956-1715353200-1715457600@www.ceolevel.com
SUMMARY:Curso Presencial PMI ACP + Scrum Master Barcelona
DESCRIPTION:
URL:https://www.ceolevel.com/event/curso-presencial-pmi-acp-scrum-master-barcelona-3/
LOCATION:AIN Business Center\, Avenida Diagonal 601 Planta 8\, Barcelona\, Barcelona\, 08028\, España
ORGANIZER;CN="CEOLEVEL":MAILTO:info@ceolevel.com
END:VEVENT
BEGIN:VEVENT
DTSTART;TZID=UTC:20240426T090000
DTEND;TZID=UTC:20240427T200000
DTSTAMP:20260420T172358
CREATED:20231027T062516Z
LAST-MODIFIED:20231027T062516Z
UID:8954-1714122000-1714248000@www.ceolevel.com
SUMMARY:Curso Intensivo PMP/CAPM Barcelona
DESCRIPTION:
URL:https://www.ceolevel.com/event/curso-intensivo-pmp-capm-barcelona-35/
LOCATION:AIN Business Center\, Avenida Diagonal 601 Planta 8\, Barcelona\, Barcelona\, 08028\, España
ORGANIZER;CN="CEOLEVEL":MAILTO:info@ceolevel.com
END:VEVENT
BEGIN:VEVENT
DTSTART;TZID=UTC:20240419T150000
DTEND;TZID=UTC:20240420T200000
DTSTAMP:20260420T172358
CREATED:20231027T062128Z
LAST-MODIFIED:20231027T062128Z
UID:8950-1713538800-1713643200@www.ceolevel.com
SUMMARY:Curso Presencial PMI ACP + ScrumMaster Madrid
DESCRIPTION:
URL:https://www.ceolevel.com/event/curso-presencial-pmi-acp-scrummaster-madrid-40/
LOCATION:Ibercenter Business Center\, Plaza de Carlos Trias Bertran 4\, Madrid\, Madrid\, España
ORGANIZER;CN="CEOLEVEL":MAILTO:info@ceolevel.com
END:VEVENT
BEGIN:VEVENT
DTSTART;TZID=UTC:20240412T090000
DTEND;TZID=UTC:20240413T200000
DTSTAMP:20260420T172358
CREATED:20231027T062346Z
LAST-MODIFIED:20231027T062346Z
UID:8952-1712912400-1713038400@www.ceolevel.com
SUMMARY:Curso Intensivo PMP/CAPM Madrid
DESCRIPTION:
URL:https://www.ceolevel.com/event/curso-intensivo-pmp-capm-madrid-51/
LOCATION:Ibercenter Business Center\, Plaza de Carlos Trias Bertran 4\, Madrid\, Madrid\, España
ORGANIZER;CN="CEOLEVEL":MAILTO:info@ceolevel.com
END:VEVENT
BEGIN:VEVENT
DTSTART;TZID=UTC:20240315T150000
DTEND;TZID=UTC:20240316T200000
DTSTAMP:20260420T172358
CREATED:20231027T061836Z
LAST-MODIFIED:20231027T061836Z
UID:8946-1710514800-1710619200@www.ceolevel.com
SUMMARY:Curso Presencial PMI ACP + Scrum Master Barcelona
DESCRIPTION:
URL:https://www.ceolevel.com/event/curso-presencial-pmi-acp-scrum-master-barcelona-2/
LOCATION:AIN Business Center\, Avenida Diagonal 601 Planta 8\, Barcelona\, Barcelona\, 08028\, España
ORGANIZER;CN="CEOLEVEL":MAILTO:info@ceolevel.com
END:VEVENT
BEGIN:VEVENT
DTSTART;TZID=UTC:20240315T090000
DTEND;TZID=UTC:20240316T200000
DTSTAMP:20260420T172358
CREATED:20231027T061938Z
LAST-MODIFIED:20231027T061938Z
UID:8948-1710493200-1710619200@www.ceolevel.com
SUMMARY:Curso Intensivo PMP/CAPM Madrid
DESCRIPTION:
URL:https://www.ceolevel.com/event/curso-intensivo-pmp-capm-madrid-50/
LOCATION:Ibercenter Business Center\, Plaza de Carlos Trias Bertran 4\, Madrid\, Madrid\, España
ORGANIZER;CN="CEOLEVEL":MAILTO:info@ceolevel.com
END:VEVENT
BEGIN:VEVENT
DTSTART;TZID=UTC:20240223T090000
DTEND;TZID=UTC:20240224T200000
DTSTAMP:20260420T172358
CREATED:20231027T061607Z
LAST-MODIFIED:20231027T061607Z
UID:8942-1708678800-1708804800@www.ceolevel.com
SUMMARY:Curso Intensivo PMP/CAPM Madrid
DESCRIPTION:
URL:https://www.ceolevel.com/event/curso-intensivo-pmp-capm-madrid-49/
LOCATION:Ibercenter Business Center\, Plaza de Carlos Trias Bertran 4\, Madrid\, Madrid\, España
ORGANIZER;CN="CEOLEVEL":MAILTO:info@ceolevel.com
END:VEVENT
BEGIN:VEVENT
DTSTART;TZID=UTC:20240209T150000
DTEND;TZID=UTC:20240210T200000
DTSTAMP:20260420T172358
CREATED:20231027T061459Z
LAST-MODIFIED:20231027T061459Z
UID:8940-1707490800-1707595200@www.ceolevel.com
SUMMARY:Curso Presencial PMI ACP + ScrumMaster Madrid
DESCRIPTION:
URL:https://www.ceolevel.com/event/curso-presencial-pmi-acp-scrummaster-madrid-39/
LOCATION:Ibercenter Business Center\, Plaza de Carlos Trias Bertran 4\, Madrid\, Madrid\, España
ORGANIZER;CN="CEOLEVEL":MAILTO:info@ceolevel.com
END:VEVENT
BEGIN:VEVENT
DTSTART;TZID=UTC:20240209T090000
DTEND;TZID=UTC:20240210T200000
DTSTAMP:20260420T172358
CREATED:20231027T061715Z
LAST-MODIFIED:20231027T061715Z
UID:8944-1707469200-1707595200@www.ceolevel.com
SUMMARY:Curso Intensivo PMP/CAPM Barcelona
DESCRIPTION:
URL:https://www.ceolevel.com/event/curso-intensivo-pmp-capm-barcelona-31/
LOCATION:AIN Business Center\, Avenida Diagonal 601 Planta 8\, Barcelona\, Barcelona\, 08028\, España
ORGANIZER;CN="CEOLEVEL":MAILTO:info@ceolevel.com
END:VEVENT
BEGIN:VEVENT
DTSTART;TZID=UTC:20240126T090000
DTEND;TZID=UTC:20240127T200000
DTSTAMP:20260420T172358
CREATED:20231027T061230Z
LAST-MODIFIED:20231027T061320Z
UID:8937-1706259600-1706385600@www.ceolevel.com
SUMMARY:Curso Intensivo PMP/CAPM Madrid
DESCRIPTION:
URL:https://www.ceolevel.com/event/curso-intensivo-pmp-madrid-9/
LOCATION:Ibercenter Business Center\, Plaza de Carlos Trias Bertran 4\, Madrid\, Madrid\, España
ORGANIZER;CN="CEOLEVEL":MAILTO:info@ceolevel.com
END:VEVENT
BEGIN:VEVENT
DTSTART;TZID=UTC:20240119T150000
DTEND;TZID=UTC:20240120T200000
DTSTAMP:20260420T172358
CREATED:20231027T060849Z
LAST-MODIFIED:20231027T061013Z
UID:8935-1705676400-1705780800@www.ceolevel.com
SUMMARY:Curso Presencial PMI ACP + Scrum Master Barcelona
DESCRIPTION:
URL:https://www.ceolevel.com/event/curso-presencial-pmi-acp-scrum-master-barcelona/
LOCATION:AIN Business Center\, Avenida Diagonal 601 Planta 8\, Barcelona\, Barcelona\, 08028\, España
ORGANIZER;CN="CEOLEVEL":MAILTO:info@ceolevel.com
END:VEVENT
BEGIN:VEVENT
DTSTART;TZID=UTC:20231215T150000
DTEND;TZID=UTC:20231216T200000
DTSTAMP:20260420T172358
CREATED:20230419T080447Z
LAST-MODIFIED:20230419T080447Z
UID:8639-1702652400-1702756800@www.ceolevel.com
SUMMARY:Curso Presencial PMI ACP + ScrumMaster Madrid
DESCRIPTION:
URL:https://www.ceolevel.com/event/curso-presencial-pmi-acp-scrummaster-madrid-38/
LOCATION:Ibercenter Business Center\, Plaza de Carlos Trias Bertran 4\, Madrid\, Madrid\, España
ORGANIZER;CN="CEOLEVEL":MAILTO:info@ceolevel.com
END:VEVENT
BEGIN:VEVENT
DTSTART;TZID=UTC:20231215T090000
DTEND;TZID=UTC:20231216T200000
DTSTAMP:20260420T172358
CREATED:20230419T080541Z
LAST-MODIFIED:20230419T080541Z
UID:8641-1702630800-1702756800@www.ceolevel.com
SUMMARY:Curso Intensivo PMP/CAPM Madrid
DESCRIPTION:
URL:https://www.ceolevel.com/event/curso-intensivo-pmp-capm-madrid-48/
LOCATION:Ibercenter Business Center\, Plaza de Carlos Trias Bertran 4\, Madrid\, Madrid\, España
ORGANIZER;CN="CEOLEVEL":MAILTO:info@ceolevel.com
END:VEVENT
BEGIN:VEVENT
DTSTART;TZID=UTC:20231124T090000
DTEND;TZID=UTC:20231125T200000
DTSTAMP:20260420T172358
CREATED:20230419T080354Z
LAST-MODIFIED:20230419T080354Z
UID:8637-1700816400-1700942400@www.ceolevel.com
SUMMARY:Curso Intensivo PMP/CAPM Barcelona
DESCRIPTION:
URL:https://www.ceolevel.com/event/curso-intensivo-pmp-capm-barcelona-34/
LOCATION:AIN Business Center\, Avenida Diagonal 601 Planta 8\, Barcelona\, Barcelona\, 08028\, España
ORGANIZER;CN="CEOLEVEL":MAILTO:info@ceolevel.com
END:VEVENT
BEGIN:VEVENT
DTSTART;TZID=UTC:20231117T150000
DTEND;TZID=UTC:20231118T200000
DTSTAMP:20260420T172358
CREATED:20230419T080209Z
LAST-MODIFIED:20230419T080209Z
UID:8633-1700233200-1700337600@www.ceolevel.com
SUMMARY:Curso Presencial PMI ACP + ScrumMaster Barcelona
DESCRIPTION:
URL:https://www.ceolevel.com/event/curso-presencial-pmi-acp-scrummaster-barcelona-34/
LOCATION:AIN Business Center\, Avenida Diagonal 601 Planta 8\, Barcelona\, Barcelona\, 08028\, España
ORGANIZER;CN="CEOLEVEL":MAILTO:info@ceolevel.com
END:VEVENT
BEGIN:VEVENT
DTSTART;TZID=UTC:20231110T090000
DTEND;TZID=UTC:20231111T200000
DTSTAMP:20260420T172358
CREATED:20230419T080307Z
LAST-MODIFIED:20230419T080307Z
UID:8635-1699606800-1699732800@www.ceolevel.com
SUMMARY:Curso Intensivo PMP/CAPM Madrid
DESCRIPTION:
URL:https://www.ceolevel.com/event/curso-intensivo-pmp-capm-madrid-47/
LOCATION:Ibercenter Business Center\, Plaza de Carlos Trias Bertran 4\, Madrid\, Madrid\, España
ORGANIZER;CN="CEOLEVEL":MAILTO:info@ceolevel.com
END:VEVENT
BEGIN:VEVENT
DTSTART;TZID=UTC:20231020T150000
DTEND;TZID=UTC:20231021T200000
DTSTAMP:20260420T172359
CREATED:20230419T080005Z
LAST-MODIFIED:20230419T080005Z
UID:8629-1697814000-1697918400@www.ceolevel.com
SUMMARY:Curso Presencial PMI ACP + ScrumMaster Madrid
DESCRIPTION:
URL:https://www.ceolevel.com/event/curso-presencial-pmi-acp-scrummaster-madrid-37/
LOCATION:Ibercenter Business Center\, Plaza de Carlos Trias Bertran 4\, Madrid\, Madrid\, España
ORGANIZER;CN="CEOLEVEL":MAILTO:info@ceolevel.com
END:VEVENT
BEGIN:VEVENT
DTSTART;TZID=UTC:20231013T090000
DTEND;TZID=UTC:20231014T200000
DTSTAMP:20260420T172359
CREATED:20230419T080105Z
LAST-MODIFIED:20230627T075404Z
UID:8631-1697187600-1697313600@www.ceolevel.com
SUMMARY:Curso Intensivo PMP/CAPM Madrid
DESCRIPTION:
URL:https://www.ceolevel.com/event/curso-intensivo-pmp-capm-madrid-46/
LOCATION:Ibercenter Business Center\, Plaza de Carlos Trias Bertran 4\, Madrid\, Madrid\, España
ORGANIZER;CN="CEOLEVEL":MAILTO:info@ceolevel.com
END:VEVENT
END:VCALENDAR