BEGIN:VCALENDAR
VERSION:2.0
PRODID:-//CEOLEVEL - ECPv6.15.18//NONSGML v1.0//EN
CALSCALE:GREGORIAN
METHOD:PUBLISH
X-ORIGINAL-URL:https://www.ceolevel.com
X-WR-CALDESC:Eventos para CEOLEVEL
REFRESH-INTERVAL;VALUE=DURATION:PT1H
X-Robots-Tag:noindex
X-PUBLISHED-TTL:PT1H
BEGIN:VTIMEZONE
TZID:Europe/Madrid
BEGIN:DAYLIGHT
TZOFFSETFROM:+0100
TZOFFSETTO:+0200
TZNAME:CEST
DTSTART:20240331T010000
END:DAYLIGHT
BEGIN:STANDARD
TZOFFSETFROM:+0200
TZOFFSETTO:+0100
TZNAME:CET
DTSTART:20241027T010000
END:STANDARD
BEGIN:DAYLIGHT
TZOFFSETFROM:+0100
TZOFFSETTO:+0200
TZNAME:CEST
DTSTART:20250330T010000
END:DAYLIGHT
BEGIN:STANDARD
TZOFFSETFROM:+0200
TZOFFSETTO:+0100
TZNAME:CET
DTSTART:20251026T010000
END:STANDARD
BEGIN:DAYLIGHT
TZOFFSETFROM:+0100
TZOFFSETTO:+0200
TZNAME:CEST
DTSTART:20260329T010000
END:DAYLIGHT
BEGIN:STANDARD
TZOFFSETFROM:+0200
TZOFFSETTO:+0100
TZNAME:CET
DTSTART:20261025T010000
END:STANDARD
END:VTIMEZONE
BEGIN:VTIMEZONE
TZID:UTC
BEGIN:STANDARD
TZOFFSETFROM:+0000
TZOFFSETTO:+0000
TZNAME:UTC
DTSTART:20230101T000000
END:STANDARD
END:VTIMEZONE
BEGIN:VEVENT
DTSTART;TZID=Europe/Madrid:20250718T090000
DTEND;TZID=Europe/Madrid:20250719T200000
DTSTAMP:20260420T142336
CREATED:20241015T072958Z
LAST-MODIFIED:20241015T072958Z
UID:13597-1752829200-1752955200@www.ceolevel.com
SUMMARY:Curso Intensivo PMP/CAPM Madrid
DESCRIPTION:
URL:https://www.ceolevel.com/event/curso-intensivo-pmp-capm-madrid-65/
LOCATION:Ibercenter Business Center\, Plaza de Carlos Trias Bertran 4\, Madrid\, Madrid\, España
ORGANIZER;CN="CEOLEVEL":MAILTO:info@ceolevel.com
END:VEVENT
BEGIN:VEVENT
DTSTART;TZID=Europe/Madrid:20250711T150000
DTEND;TZID=Europe/Madrid:20250712T200000
DTSTAMP:20260420T142336
CREATED:20241015T072056Z
LAST-MODIFIED:20241015T072056Z
UID:13593-1752246000-1752350400@www.ceolevel.com
SUMMARY:Curso Presencial PMI ACP + Scrum Master Madrid
DESCRIPTION:
URL:https://www.ceolevel.com/event/curso-presencial-pmi-acp-scrum-master-madrid-4/
LOCATION:Ibercenter Business Center\, Plaza de Carlos Trias Bertran 4\, Madrid\, Madrid\, España
ORGANIZER;CN="CEOLEVEL":MAILTO:info@ceolevel.com
END:VEVENT
BEGIN:VEVENT
DTSTART;TZID=Europe/Madrid:20250627T090000
DTEND;TZID=Europe/Madrid:20250628T200000
DTSTAMP:20260420T142336
CREATED:20241015T071939Z
LAST-MODIFIED:20241015T071939Z
UID:13589-1751014800-1751140800@www.ceolevel.com
SUMMARY:Curso Intensivo PMP/CAPM Barcelona
DESCRIPTION:
URL:https://www.ceolevel.com/event/curso-intensivo-pmp-capm-barcelona-42/
LOCATION:AIN Business Center\, Avenida Diagonal 601 Planta 8\, Barcelona\, Barcelona\, 08028\, España
ORGANIZER;CN="CEOLEVEL":MAILTO:info@ceolevel.com
END:VEVENT
BEGIN:VEVENT
DTSTART;TZID=Europe/Madrid:20250613T150000
DTEND;TZID=Europe/Madrid:20250614T200000
DTSTAMP:20260420T142336
CREATED:20241015T071749Z
LAST-MODIFIED:20241015T073511Z
UID:13581-1749826800-1749931200@www.ceolevel.com
SUMMARY:Curso Presencial PMI ACP + Scrum Master Barcelona
DESCRIPTION:
URL:https://www.ceolevel.com/event/curso-intensivo-pmp-capm-barcelona-41/
LOCATION:AIN Business Center\, Avenida Diagonal 601 Planta 8\, Barcelona\, Barcelona\, 08028\, España
ORGANIZER;CN="CEOLEVEL":MAILTO:info@ceolevel.com
END:VEVENT
BEGIN:VEVENT
DTSTART;TZID=Europe/Madrid:20250613T090000
DTEND;TZID=Europe/Madrid:20250614T200000
DTSTAMP:20260420T142336
CREATED:20241015T071847Z
LAST-MODIFIED:20241015T071847Z
UID:13585-1749805200-1749931200@www.ceolevel.com
SUMMARY:Curso Intensivo PMP/CAPM Madrid
DESCRIPTION:
URL:https://www.ceolevel.com/event/curso-intensivo-pmp-capm-madrid-64/
LOCATION:Ibercenter Business Center\, Plaza de Carlos Trias Bertran 4\, Madrid\, Madrid\, España
ORGANIZER;CN="CEOLEVEL":MAILTO:info@ceolevel.com
END:VEVENT
BEGIN:VEVENT
DTSTART;TZID=Europe/Madrid:20250516T090000
DTEND;TZID=Europe/Madrid:20250517T200000
DTSTAMP:20260420T142336
CREATED:20241015T071643Z
LAST-MODIFIED:20241015T071643Z
UID:13577-1747386000-1747512000@www.ceolevel.com
SUMMARY:Curso Intensivo PMP/CAPM Madrid
DESCRIPTION:
URL:https://www.ceolevel.com/event/curso-intensivo-pmp-capm-madrid-63/
LOCATION:Ibercenter Business Center\, Plaza de Carlos Trias Bertran 4\, Madrid\, Madrid\, España
ORGANIZER;CN="CEOLEVEL":MAILTO:info@ceolevel.com
END:VEVENT
BEGIN:VEVENT
DTSTART;TZID=Europe/Madrid:20250509T150000
DTEND;TZID=Europe/Madrid:20250510T200000
DTSTAMP:20260420T142336
CREATED:20241015T071549Z
LAST-MODIFIED:20241015T071549Z
UID:13573-1746802800-1746907200@www.ceolevel.com
SUMMARY:Curso Presencial PMI ACP + Scrum Master Madrid
DESCRIPTION:
URL:https://www.ceolevel.com/event/curso-presencial-pmi-acp-scrum-master-madrid-3/
LOCATION:Ibercenter Business Center\, Plaza de Carlos Trias Bertran 4\, Madrid\, Madrid\, España
ORGANIZER;CN="CEOLEVEL":MAILTO:info@ceolevel.com
END:VEVENT
BEGIN:VEVENT
DTSTART;TZID=Europe/Madrid:20250425T090000
DTEND;TZID=Europe/Madrid:20250426T200000
DTSTAMP:20260420T142336
CREATED:20241015T071445Z
LAST-MODIFIED:20241015T071445Z
UID:13569-1745571600-1745697600@www.ceolevel.com
SUMMARY:Curso Intensivo PMP/CAPM Barcelona
DESCRIPTION:
URL:https://www.ceolevel.com/event/curso-intensivo-pmp-capm-barcelona-40/
LOCATION:AIN Business Center\, Avenida Diagonal 601 Planta 8\, Barcelona\, Barcelona\, 08028\, España
ORGANIZER;CN="CEOLEVEL":MAILTO:info@ceolevel.com
END:VEVENT
BEGIN:VEVENT
DTSTART;TZID=Europe/Madrid:20250411T150000
DTEND;TZID=Europe/Madrid:20250412T200000
DTSTAMP:20260420T142336
CREATED:20241015T071237Z
LAST-MODIFIED:20241015T071237Z
UID:13562-1744383600-1744488000@www.ceolevel.com
SUMMARY:Curso Presencial PMI ACP + Scrum Master Barcelona
DESCRIPTION:
URL:https://www.ceolevel.com/event/curso-presencial-pmi-acp-scrum-master-barcelona-7/
LOCATION:AIN Business Center\, Avenida Diagonal 601 Planta 8\, Barcelona\, Barcelona\, 08028\, España
ORGANIZER;CN="CEOLEVEL":MAILTO:info@ceolevel.com
END:VEVENT
BEGIN:VEVENT
DTSTART;TZID=Europe/Madrid:20250411T090000
DTEND;TZID=Europe/Madrid:20250412T200000
DTSTAMP:20260420T142336
CREATED:20241015T071349Z
LAST-MODIFIED:20241015T071349Z
UID:13566-1744362000-1744488000@www.ceolevel.com
SUMMARY:Curso Intensivo PMP/CAPM Madrid
DESCRIPTION:
URL:https://www.ceolevel.com/event/curso-intensivo-pmp-capm-madrid-62/
LOCATION:Ibercenter Business Center\, Plaza de Carlos Trias Bertran 4\, Madrid\, Madrid\, España
ORGANIZER;CN="CEOLEVEL":MAILTO:info@ceolevel.com
END:VEVENT
BEGIN:VEVENT
DTSTART;TZID=Europe/Madrid:20250314T090000
DTEND;TZID=Europe/Madrid:20250315T200000
DTSTAMP:20260420T142336
CREATED:20241015T071144Z
LAST-MODIFIED:20241015T071144Z
UID:13559-1741942800-1742068800@www.ceolevel.com
SUMMARY:Curso Intensivo PMP/CAPM Madrid
DESCRIPTION:
URL:https://www.ceolevel.com/event/curso-intensivo-pmp-capm-madrid-61/
LOCATION:Ibercenter Business Center\, Plaza de Carlos Trias Bertran 4\, Madrid\, Madrid\, España
ORGANIZER;CN="CEOLEVEL":MAILTO:info@ceolevel.com
END:VEVENT
BEGIN:VEVENT
DTSTART;TZID=Europe/Madrid:20250307T150000
DTEND;TZID=Europe/Madrid:20250308T200000
DTSTAMP:20260420T142336
CREATED:20241015T071045Z
LAST-MODIFIED:20241015T071045Z
UID:13555-1741359600-1741464000@www.ceolevel.com
SUMMARY:Curso Presencial PMI ACP + Scrum Master Madrid
DESCRIPTION:
URL:https://www.ceolevel.com/event/curso-presencial-pmi-acp-scrum-master-madrid-2/
LOCATION:Ibercenter Business Center\, Plaza de Carlos Trias Bertran 4\, Madrid\, Madrid\, España
ORGANIZER;CN="CEOLEVEL":MAILTO:info@ceolevel.com
END:VEVENT
BEGIN:VEVENT
DTSTART;TZID=Europe/Madrid:20250221T090000
DTEND;TZID=Europe/Madrid:20250222T200000
DTSTAMP:20260420T142336
CREATED:20241015T070918Z
LAST-MODIFIED:20241015T070918Z
UID:13551-1740128400-1740254400@www.ceolevel.com
SUMMARY:Curso Intensivo PMP/CAPM Barcelona
DESCRIPTION:
URL:https://www.ceolevel.com/event/curso-intensivo-pmp-capm-barcelona-39/
LOCATION:AIN Business Center\, Avenida Diagonal 601 Planta 8\, Barcelona\, Barcelona\, 08028\, España
ORGANIZER;CN="CEOLEVEL":MAILTO:info@ceolevel.com
END:VEVENT
BEGIN:VEVENT
DTSTART;TZID=Europe/Madrid:20250214T150000
DTEND;TZID=Europe/Madrid:20250215T200000
DTSTAMP:20260420T142336
CREATED:20241015T070558Z
LAST-MODIFIED:20241015T070558Z
UID:13543-1739545200-1739649600@www.ceolevel.com
SUMMARY:Curso Presencial PMI ACP + Scrum Master Barcelona
DESCRIPTION:
URL:https://www.ceolevel.com/event/curso-presencial-pmi-acp-scrum-master-barcelona-6/
LOCATION:AIN Business Center\, Avenida Diagonal 601 Planta 8\, Barcelona\, Barcelona\, 08028\, España
ORGANIZER;CN="CEOLEVEL":MAILTO:info@ceolevel.com
END:VEVENT
BEGIN:VEVENT
DTSTART;TZID=Europe/Madrid:20250207T090000
DTEND;TZID=Europe/Madrid:20250208T200000
DTSTAMP:20260420T142336
CREATED:20241015T070815Z
LAST-MODIFIED:20241015T070815Z
UID:13547-1738918800-1739044800@www.ceolevel.com
SUMMARY:Curso Intensivo PMP/CAPM Madrid
DESCRIPTION:
URL:https://www.ceolevel.com/event/curso-intensivo-pmp-capm-madrid-60/
LOCATION:Ibercenter Business Center\, Plaza de Carlos Trias Bertran 4\, Madrid\, Madrid\, España
ORGANIZER;CN="CEOLEVEL":MAILTO:info@ceolevel.com
END:VEVENT
BEGIN:VEVENT
DTSTART;TZID=Europe/Madrid:20250124T150000
DTEND;TZID=Europe/Madrid:20250125T200000
DTSTAMP:20260420T142336
CREATED:20241015T070148Z
LAST-MODIFIED:20241015T070148Z
UID:13536-1737730800-1737835200@www.ceolevel.com
SUMMARY:Curso Presencial PMI ACP + Scrum Master Madrid
DESCRIPTION:
URL:https://www.ceolevel.com/event/curso-presencial-pmi-acp-scrum-master-madrid/
LOCATION:Ibercenter Business Center\, Plaza de Carlos Trias Bertran 4\, Madrid\, Madrid\, España
ORGANIZER;CN="CEOLEVEL":MAILTO:info@ceolevel.com
END:VEVENT
BEGIN:VEVENT
DTSTART;TZID=Europe/Madrid:20250117T090000
DTEND;TZID=Europe/Madrid:20250118T200000
DTSTAMP:20260420T142336
CREATED:20241015T070358Z
LAST-MODIFIED:20241015T070630Z
UID:13539-1737104400-1737230400@www.ceolevel.com
SUMMARY:Curso Intensivo PMP/CAPM Madrid
DESCRIPTION:
URL:https://www.ceolevel.com/event/curso-intensivo-pmp-capm-madrid-59/
LOCATION:Ibercenter Business Center\, Plaza de Carlos Trias Bertran 4\, Madrid\, Madrid\, España
ORGANIZER;CN="CEOLEVEL":MAILTO:info@ceolevel.com
END:VEVENT
BEGIN:VEVENT
DTSTART;TZID=UTC:20241213T150000
DTEND;TZID=UTC:20241214T200000
DTSTAMP:20260420T142336
CREATED:20240424T112102Z
LAST-MODIFIED:20240424T112102Z
UID:9954-1734102000-1734206400@www.ceolevel.com
SUMMARY:Curso Presencial PMI ACP + Scrum Master Barcelona
DESCRIPTION:
URL:https://www.ceolevel.com/event/curso-presencial-pmi-acp-scrum-master-barcelona-5/
LOCATION:AIN Business Center\, Avenida Diagonal 601 Planta 8\, Barcelona\, Barcelona\, 08028\, España
ORGANIZER;CN="CEOLEVEL":MAILTO:info@ceolevel.com
END:VEVENT
BEGIN:VEVENT
DTSTART;TZID=UTC:20241213T090000
DTEND;TZID=UTC:20241214T200000
DTSTAMP:20260420T142336
CREATED:20240424T112150Z
LAST-MODIFIED:20240424T112150Z
UID:9956-1734080400-1734206400@www.ceolevel.com
SUMMARY:Curso Intensivo PMP/CAPM Madrid
DESCRIPTION:
URL:https://www.ceolevel.com/event/curso-intensivo-pmp-capm-madrid-58/
LOCATION:Ibercenter Business Center\, Plaza de Carlos Trias Bertran 4\, Madrid\, Madrid\, España
ORGANIZER;CN="CEOLEVEL":MAILTO:info@ceolevel.com
END:VEVENT
BEGIN:VEVENT
DTSTART;TZID=UTC:20241122T090000
DTEND;TZID=UTC:20241123T200000
DTSTAMP:20260420T142336
CREATED:20240424T112004Z
LAST-MODIFIED:20240424T112004Z
UID:9952-1732266000-1732392000@www.ceolevel.com
SUMMARY:Curso Intensivo PMP/CAPM Barcelona
DESCRIPTION:
URL:https://www.ceolevel.com/event/curso-intensivo-pmp-capm-barcelona-38/
LOCATION:AIN Business Center\, Avenida Diagonal 601 Planta 8\, Barcelona\, Barcelona\, 08028\, España
ORGANIZER;CN="CEOLEVEL":MAILTO:info@ceolevel.com
END:VEVENT
BEGIN:VEVENT
DTSTART;TZID=UTC:20241115T150000
DTEND;TZID=UTC:20241116T200000
DTSTAMP:20260420T142336
CREATED:20240424T111817Z
LAST-MODIFIED:20240424T111817Z
UID:9948-1731682800-1731787200@www.ceolevel.com
SUMMARY:Curso Presencial PMI ACP + ScrumMaster Madrid
DESCRIPTION:
URL:https://www.ceolevel.com/event/curso-presencial-pmi-acp-scrummaster-madrid-43/
LOCATION:Ibercenter Business Center\, Plaza de Carlos Trias Bertran 4\, Madrid\, Madrid\, España
ORGANIZER;CN="CEOLEVEL":MAILTO:info@ceolevel.com
END:VEVENT
BEGIN:VEVENT
DTSTART;TZID=UTC:20241108T090000
DTEND;TZID=UTC:20241109T200000
DTSTAMP:20260420T142336
CREATED:20240424T111914Z
LAST-MODIFIED:20240424T111914Z
UID:9950-1731056400-1731182400@www.ceolevel.com
SUMMARY:Curso Intensivo PMP/CAPM Madrid
DESCRIPTION:
URL:https://www.ceolevel.com/event/curso-intensivo-pmp-capm-madrid-57/
LOCATION:Ibercenter Business Center\, Plaza de Carlos Trias Bertran 4\, Madrid\, Madrid\, España
ORGANIZER;CN="CEOLEVEL":MAILTO:info@ceolevel.com
END:VEVENT
BEGIN:VEVENT
DTSTART;TZID=UTC:20241018T150000
DTEND;TZID=UTC:20241019T200000
DTSTAMP:20260420T142336
CREATED:20240424T111608Z
LAST-MODIFIED:20240424T111608Z
UID:9944-1729263600-1729368000@www.ceolevel.com
SUMMARY:Curso Presencial PMI ACP + Scrum Master Barcelona
DESCRIPTION:
URL:https://www.ceolevel.com/event/curso-presencial-pmi-acp-scrum-master-barcelona-4/
LOCATION:AIN Business Center\, Avenida Diagonal 601 Planta 8\, Barcelona\, Barcelona\, 08028\, España
ORGANIZER;CN="CEOLEVEL":MAILTO:info@ceolevel.com
END:VEVENT
BEGIN:VEVENT
DTSTART;TZID=UTC:20241018T090000
DTEND;TZID=UTC:20241019T200000
DTSTAMP:20260420T142336
CREATED:20240424T111713Z
LAST-MODIFIED:20240424T111713Z
UID:9946-1729242000-1729368000@www.ceolevel.com
SUMMARY:Curso Intensivo PMP/CAPM Madrid
DESCRIPTION:
URL:https://www.ceolevel.com/event/curso-intensivo-pmp-capm-madrid-56/
LOCATION:Ibercenter Business Center\, Plaza de Carlos Trias Bertran 4\, Madrid\, Madrid\, España
ORGANIZER;CN="CEOLEVEL":MAILTO:info@ceolevel.com
END:VEVENT
BEGIN:VEVENT
DTSTART;TZID=UTC:20240927T090000
DTEND;TZID=UTC:20240928T200000
DTSTAMP:20260420T142336
CREATED:20240424T071133Z
LAST-MODIFIED:20240424T071133Z
UID:9938-1727427600-1727553600@www.ceolevel.com
SUMMARY:Curso Intensivo PMP/CAPM Madrid
DESCRIPTION:
URL:https://www.ceolevel.com/event/curso-intensivo-pmp-capm-madrid-55/
LOCATION:Ibercenter Business Center\, Plaza de Carlos Trias Bertran 4\, Madrid\, Madrid\, España
ORGANIZER;CN="CEOLEVEL":MAILTO:info@ceolevel.com
END:VEVENT
BEGIN:VEVENT
DTSTART;TZID=UTC:20240913T150000
DTEND;TZID=UTC:20240914T200000
DTSTAMP:20260420T142336
CREATED:20240424T111506Z
LAST-MODIFIED:20240424T111506Z
UID:9940-1726239600-1726344000@www.ceolevel.com
SUMMARY:Curso Presencial PMI ACP + ScrumMaster Madrid
DESCRIPTION:
URL:https://www.ceolevel.com/event/curso-presencial-pmi-acp-scrummaster-madrid-42/
LOCATION:Ibercenter Business Center\, Plaza de Carlos Trias Bertran 4\, Madrid\, Madrid\, España
ORGANIZER;CN="CEOLEVEL":MAILTO:info@ceolevel.com
END:VEVENT
BEGIN:VEVENT
DTSTART;TZID=UTC:20240913T090000
DTEND;TZID=UTC:20240914T200000
DTSTAMP:20260420T142336
CREATED:20240424T070320Z
LAST-MODIFIED:20240424T070320Z
UID:9936-1726218000-1726344000@www.ceolevel.com
SUMMARY:Curso Intensivo PMP/CAPM Barcelona
DESCRIPTION:
URL:https://www.ceolevel.com/event/curso-intensivo-pmp-capm-barcelona-37/
LOCATION:AIN Business Center\, Avenida Diagonal 601 Planta 8\, Barcelona\, Barcelona\, 08028\, España
ORGANIZER;CN="CEOLEVEL":MAILTO:info@ceolevel.com
END:VEVENT
BEGIN:VEVENT
DTSTART;TZID=UTC:20240726T150000
DTEND;TZID=UTC:20240727T200000
DTSTAMP:20260420T142336
CREATED:20240424T065649Z
LAST-MODIFIED:20240424T111207Z
UID:9934-1722006000-1722110400@www.ceolevel.com
SUMMARY:Curso Presencial PMI ACP + ScrumMaster Barcelona
DESCRIPTION:
URL:https://www.ceolevel.com/event/curso-presencial-pmi-acp-scrummaster-madrid-41/
LOCATION:AIN Business Center\, Avenida Diagonal 601 Planta 8\, Barcelona\, Barcelona\, 08028\, España
ORGANIZER;CN="CEOLEVEL":MAILTO:info@ceolevel.com
END:VEVENT
BEGIN:VEVENT
DTSTART;TZID=UTC:20240719T090000
DTEND;TZID=UTC:20240720T200000
DTSTAMP:20260420T142336
CREATED:20231027T082906Z
LAST-MODIFIED:20231027T082906Z
UID:8968-1721379600-1721505600@www.ceolevel.com
SUMMARY:Curso Intensivo PMP/CAPM Madrid
DESCRIPTION:
URL:https://www.ceolevel.com/event/curso-intensivo-pmp-capm-madrid-54/
LOCATION:Ibercenter Business Center\, Plaza de Carlos Trias Bertran 4\, Madrid\, Madrid\, España
ORGANIZER;CN="CEOLEVEL":MAILTO:info@ceolevel.com
END:VEVENT
BEGIN:VEVENT
DTSTART;TZID=UTC:20240628T090000
DTEND;TZID=UTC:20240629T200000
DTSTAMP:20260420T142336
CREATED:20231027T082718Z
LAST-MODIFIED:20231027T082718Z
UID:8964-1719565200-1719691200@www.ceolevel.com
SUMMARY:Curso Intensivo PMP/CAPM Barcelona
DESCRIPTION:
URL:https://www.ceolevel.com/event/curso-intensivo-pmp-capm-barcelona-36/
LOCATION:AIN Business Center\, Avenida Diagonal 601 Planta 8\, Barcelona\, Barcelona\, 08028\, España
ORGANIZER;CN="CEOLEVEL":MAILTO:info@ceolevel.com
END:VEVENT
END:VCALENDAR